Workbook

Sheet Wohnungen_Abitaziuns_Abitazioni
A7: =VLOOKUP("<Fachbereich>",Uebersetzungen!$B$3:$E$33,Uebersetzungen!$B$2+1,FALSE) -> Daten & Statistik
A9: =VLOOKUP("<Titel>",Uebersetzungen!$B$3:$E$33,Uebersetzungen!$B$2+1,FALSE) -> Allgemeine Übersicht "Wohnungen" im Kanton Graubünden, 2025
B12: =VLOOKUP("<SpaltenTitel_1>",Uebersetzungen!$B$3:$E$298,Uebersetzungen!$B$2+1,FALSE) -> Wohnungen
B13: =VLOOKUP("<SpaltenTitel_2>",Uebersetzungen!$B$3:$E$298,Uebersetzungen!$B$2+1,FALSE) -> Total | C13: =VLOOKUP("<SpaltenTitel_3>",Uebersetzungen!$B$3:$E$298,Uebersetzungen!$B$2+1,FALSE) -> Mit Zimmer(n) | I13: =VLOOKUP("<SpaltenTitel_4>",Uebersetzungen!$B$3:$E$298,Uebersetzungen!$B$2+1,FALSE) -> Bauperiode
C14: =VLOOKUP("<SpaltenTitel_1.1>",Uebersetzungen!$B$3:$E$298,Uebersetzungen!$B$2+1,FALSE) -> 1 | D14: =VLOOKUP("<SpaltenTitel_1.2>",Uebersetzungen!$B$3:$E$298,Uebersetzungen!$B$2+1,FALSE) -> 2 | E14: =VLOOKUP("<SpaltenTitel_1.3>",Uebersetzungen!$B$3:$E$298,Uebersetzungen!$B$2+1,FALSE) -> 3 | F14: =VLOOKUP("<SpaltenTitel_1.4>",Uebersetzungen!$B$3:$E$298,Uebersetzungen!$B$2+1,FALSE) -> 4 | G14: =VLOOKUP("<SpaltenTitel_1.5>",Uebersetzungen!$B$3:$E$298,Uebersetzungen!$B$2+1,FALSE) -> 5 | H14: =VLOOKUP("<SpaltenTitel_1.6>",Uebersetzungen!$B$3:$E$298,Uebersetzungen!$B$2+1,FALSE) -> 6+ | I14: =VLOOKUP("<SpaltenTitel_2.1>",Uebersetzungen!$B$3:$E$298,Uebersetzungen!$B$2+1,FALSE) -> vor 1946 | J14: =VLOOKUP("<SpaltenTitel_2.2>",Uebersetzungen!$B$3:$E$298,Uebersetzungen!$B$2+1,FALSE) -> 1946-1980 | K14: =VLOOKUP("<SpaltenTitel_2.3>",Uebersetzungen!$B$3:$E$298,Uebersetzungen!$B$2+1,FALSE) -> 1981-2000 | L14: =VLOOKUP("<SpaltenTitel_2.4>",Uebersetzungen!$B$3:$E$298,Uebersetzungen!$B$2+1,FALSE) -> 2001-2025
A15: =VLOOKUP("<Zeilentitel_1>",Uebersetzungen!$B$3:$E$298,Uebersetzungen!$B$2+1,FALSE) -> Total | B15: 187807 | C15: 20142 | D15: 33422 | E15: 47203 | F15: 47522 | G15: 23628 | H15: 15890 | I15: 45773 | J15: 60944 | K15: 42425 | L15: 38665
A16: =VLOOKUP("<Zeilentitel_1.1>",Uebersetzungen!$B$3:$E$33,Uebersetzungen!$B$2+1,FALSE) -> vor 1919 erbaut | B16: 37159 | C16: 3866 | D16: 6179 | E16: 8838 | F16: 8587 | G16: 5261 | H16: 4428 | I16: 37159 | J16: * | K16: * | L16: *
A17: =VLOOKUP("<Zeilentitel_1.2>",Uebersetzungen!$B$3:$E$33,Uebersetzungen!$B$2+1,FALSE) -> 1919-1945 erbaut | B17: 8614 | C17: 901 | D17: 1335 | E17: 2003 | F17: 2064 | G17: 1226 | H17: 1085 | I17: 8614 | J17: * | K17: * | L17: *
A18: =VLOOKUP("<Zeilentitel_1.3>",Uebersetzungen!$B$3:$E$33,Uebersetzungen!$B$2+1,FALSE) -> 1946-1960 erbaut | B18: 10543 | C18: 1005 | D18: 1322 | E18: 2433 | F18: 3186 | G18: 1501 | H18: 1096 | I18: * | J18: 10543 | K18: * | L18: *
A19: =VLOOKUP("<Zeilentitel_1.4>",Uebersetzungen!$B$3:$E$33,Uebersetzungen!$B$2+1,FALSE) -> 1961-1970 erbaut | B19: 21393 | C19: 3064 | D19: 3261 | E19: 5603 | F19: 5721 | G19: 2154 | H19: 1590 | I19: * | J19: 21393 | K19: * | L19: *
A20: =VLOOKUP("<Zeilentitel_1.5>",Uebersetzungen!$B$3:$E$33,Uebersetzungen!$B$2+1,FALSE) -> 1971-1980 erbaut | B20: 29008 | C20: 4771 | D20: 6437 | E20: 7146 | F20: 6370 | G20: 2672 | H20: 1612 | I20: * | J20: 29008 | K20: * | L20: *
A21: =VLOOKUP("<Zeilentitel_1.6>",Uebersetzungen!$B$3:$E$33,Uebersetzungen!$B$2+1,FALSE) -> 1981-1990 erbaut | B21: 23568 | C21: 2515 | D21: 5369 | E21: 5774 | F21: 5443 | G21: 2785 | H21: 1682 | I21: * | J21: * | K21: 23568 | L21: *
A22: =VLOOKUP("<Zeilentitel_1.7>",Uebersetzungen!$B$3:$E$334,Uebersetzungen!$B$2+1,FALSE) -> 1991-2000 erbaut | B22: 18857 | C22: 1450 | D22: 3428 | E22: 4479 | F22: 5161 | G22: 2830 | H22: 1509 | I22: * | J22: * | K22: 18857 | L22: *
A23: =VLOOKUP("<Zeilentitel_1.8>",Uebersetzungen!$B$3:$E$334,Uebersetzungen!$B$2+1,FALSE) -> 2001-2005 erbaut | B23: 7136 | C23: 362 | D23: 1044 | E23: 1812 | F23: 2047 | G23: 1189 | H23: 682 | I23: * | J23: * | K23: * | L23: 7136
A24: =VLOOKUP("<Zeilentitel_1.9>",Uebersetzungen!$B$3:$E$334,Uebersetzungen!$B$2+1,FALSE) -> 2006-2010 erbaut | B24: 8942 | C24: 453 | D24: 1196 | E24: 2558 | F24: 2786 | G24: 1262 | H24: 687 | I24: * | J24: * | K24: * | L24: 8942
A25: =VLOOKUP("<Zeilentitel_1.10>",Uebersetzungen!$B$3:$E$334,Uebersetzungen!$B$2+1,FALSE) -> 2011-2015 erbaut | B25: 9451 | C25: 648 | D25: 1345 | E25: 2832 | F25: 2849 | G25: 1163 | H25: 614 | I25: * | J25: * | K25: * | L25: 9451
A26: =VLOOKUP("<Zeilentitel_1.11>",Uebersetzungen!$B$3:$E$334,Uebersetzungen!$B$2+1,FALSE) -> 2016-2020 erbaut | B26: 6888 | C26: 303 | D26: 1392 | E26: 2066 | F26: 1850 | G26: 800 | H26: 477 | I26: * | J26: * | K26: * | L26: 6888
A27: =VLOOKUP("<Zeilentitel_1.12>",Uebersetzungen!$B$3:$E$334,Uebersetzungen!$B$2+1,FALSE) -> 2021-2025 erbaut | B27: 6248 | C27: 804 | D27: 1114 | E27: 1659 | F27: 1458 | G27: 785 | H27: 428 | I27: * | J27: * | K27: * | L27: 6248
A29: =VLOOKUP("<Zeilentitel_2>",Uebersetzungen!$B$3:$E$298,Uebersetzungen!$B$2+1,FALSE) -> Fläche der Wohnung (in m2)
A30: =VLOOKUP("<Zeilentitel_2.1>",Uebersetzungen!$B$3:$E$298,Uebersetzungen!$B$2+1,FALSE) -> unter 40 | B30: 23247 | C30: 16580 | D30: 5233 | E30: 1123 | F30: 310 | G30: 0 | H30: 1 | I30: 6395 | J30: 9886 | K30: 4482 | L30: 2484
A31: =VLOOKUP("<Zeilentitel_2.2>",Uebersetzungen!$B$3:$E$298,Uebersetzungen!$B$2+1,FALSE) -> 40-59 | B31: 28411 | C31: 2962 | D31: 17969 | E31: 6094 | F31: 1136 | G31: 198 | H31: 52 | I31: 6492 | J31: 10354 | K31: 7296 | L31: 4269
A32: =VLOOKUP("<Zeilentitel_2.3>",Uebersetzungen!$B$3:$E$298,Uebersetzungen!$B$2+1,FALSE) -> 60-79 | B32: 34677 | C32: 360 | D32: 8493 | E32: 19014 | F32: 5926 | G32: 743 | H32: 141 | I32: 7737 | J32: 13548 | K32: 7598 | L32: 5794
A33: =VLOOKUP("<Zeilentitel_2.4>",Uebersetzungen!$B$3:$E$298,Uebersetzungen!$B$2+1,FALSE) -> 80-99 | B33: 35135 | C33: 116 | D33: 1294 | E33: 15094 | F33: 15222 | G33: 2823 | H33: 586 | I33: 8207 | J33: 11814 | K33: 7921 | L33: 7193
A34: =VLOOKUP("<Zeilentitel_2.5>",Uebersetzungen!$B$3:$E$298,Uebersetzungen!$B$2+1,FALSE) -> 100-119 | B34: 24161 | C34: 61 | D34: 300 | E34: 3856 | F34: 13504 | G34: 5147 | H34: 1293 | I34: 5810 | J34: 6347 | K34: 5455 | L34: 6549
A35: =VLOOKUP("<Zeilentitel_2.6>",Uebersetzungen!$B$3:$E$298,Uebersetzungen!$B$2+1,FALSE) -> 120-159 | B35: 26800 | C35: 44 | D35: 104 | E35: 1747 | F35: 9586 | G35: 9865 | H35: 5454 | I35: 6962 | J35: 6097 | K35: 6235 | L35: 7506
A36: =VLOOKUP("<Zeilentitel_2.7>",Uebersetzungen!$B$3:$E$298,Uebersetzungen!$B$2+1,FALSE) -> 160+ | B36: 15376 | C36: 19 | D36: 29 | E36: 275 | F36: 1838 | G36: 4852 | H36: 8363 | I36: 4170 | J36: 2898 | K36: 3438 | L36: 4870
A39: =VLOOKUP("<Legende_1>",Uebersetzungen!$B$3:$E$319,Uebersetzungen!$B$2+1,FALSE) -> * Entfällt, weil trivial oder Begriffe nicht anwendbar
A41: =VLOOKUP("<Quelle_1>",Uebersetzungen!$B$3:$E$319,Uebersetzungen!$B$2+1,FALSE) -> Quelle: BFS (Gebäude- und Wohnungsstatistik)
A42: =VLOOKUP("<Aktualisierung>",Uebersetzungen!$B$3:$E$319,Uebersetzungen!$B$2+1,FALSE) -> Letztmals aktualisiert am: 15.09.2026

Sheet Uebersetzungen
A1: Tabelle | B1: Code | C1: DE | D1: RM | E1: IT
A2: Sprache | B2: 1
B3: <Fachbereich> | C3: Daten & Statistik | D3: Datas & Statistica | E3: Dati & Statistica
A4: T1 | B4: <Titel> | C4: Allgemeine Übersicht "Wohnungen" im Kanton Graubünden, 2025 | D4: Survista generala "abitaziuns" en il chantun Grischun, 2025 | E4: Prospetto sinottico "abitazioni" nel cantone Grigioni, 2025
B5: <UTitel>
A7: T1-2 | B7: <SpaltenTitel_1> | C7: Wohnungen | D7: Abitaziuns | E7: Abitazioni
B8: <SpaltenTitel_2> | C8: Total | D8: Total | E8: Totale
B9: <SpaltenTitel_3> | C9: Mit Zimmer(n) | D9: Cun … stanza(s) | E9: Con … locale(i)
B10: <SpaltenTitel_4> | C10: Bauperiode | D10: Perioda da construcziun | E10: Epoca di costruzione
B12: <SpaltenTitel_1.1> | C12: 1 | D12: 1 | E12: 1
B13: <SpaltenTitel_1.2> | C13: 2 | D13: 2 | E13: 2
B14: <SpaltenTitel_1.3> | C14: 3 | D14: 3 | E14: 3
B15: <SpaltenTitel_1.4> | C15: 4 | D15: 4 | E15: 4
B16: <SpaltenTitel_1.5> | C16: 5 | D16: 5 | E16: 5
B17: <SpaltenTitel_1.6> | C17: 6+ | D17: 6+ | E17: 6+
B18: <SpaltenTitel_2.1> | C18: vor 1946 | D18: avant l'onn 1946 | E18: prima del 1946
B19: <SpaltenTitel_2.2> | C19: 1946-1980 | D19: 1946-1980 | E19: 1946-1980
B20: <SpaltenTitel_2.3> | C20: 1981-2000 | D20: 1981-2000 | E20: 1981-2000
B21: <SpaltenTitel_2.4> | C21: 2001-2025 | D21: 2001-2025 | E21: 2001-2025
B22: <SpaltenTitel_2.5>
A24: T1 | B24: <Zeilentitel_1> | C24: Total | D24: Total | E24: Totale
B25: <Zeilentitel_1.1> | C25: vor 1919 erbaut | D25: Construì avant il 1919 | E25: Costruiti prima del 1919
B26: <Zeilentitel_1.2> | C26: 1919-1945 erbaut | D26: Construì ils onns 1919-1945 | E26: Costruiti tra il 1919 e il 1945
B27: <Zeilentitel_1.3> | C27: 1946-1960 erbaut | D27: Construì ils onns 1946-1960 | E27: Costruiti tra il 1946 e il 1960
B28: <Zeilentitel_1.4> | C28: 1961-1970 erbaut | D28: Construì ils onns 1961-1970 | E28: Costruiti tra il 1961 e il 1970
B29: <Zeilentitel_1.5> | C29: 1971-1980 erbaut | D29: Construì ils onns 1971-1980 | E29: Costruiti tra il 1971 e il 1980
B30: <Zeilentitel_1.6> | C30: 1981-1990 erbaut | D30: Construì ils onns 1981-1990 | E30: Costruiti tra il 1981 e il 1990
B31: <Zeilentitel_1.7> | C31: 1991-2000 erbaut | D31: Construì ils onns 1991-2000 | E31: Costruiti tra il 1991 e il 2000
B32: <Zeilentitel_1.8> | C32: 2001-2005 erbaut | D32: Construì ils onns 2001-2005 | E32: Costruiti tra il 2001 e il 2005
B33: <Zeilentitel_1.9> | C33: 2006-2010 erbaut | D33: Construì ils onns 2006-2010 | E33: Costruiti tra il 2006 e il 2010
B34: <Zeilentitel_1.10> | C34: 2011-2015 erbaut | D34: Construì ils onns 2011-2015 | E34: Costruiti tra il 2011 e il 2015
B35: <Zeilentitel_1.11> | C35: 2016-2020 erbaut | D35: Construì ils onns 2016-2020 | E35: Costruiti tra il 2016 e il 2020
B36: <Zeilentitel_1.12> | C36: 2021-2025 erbaut | D36: Construì ils onns 2021-2025 | E36: Costruiti tra il 2021 e il 2025
... B46: <Legende_1> | C46: * Entfällt, weil trivial oder Begriffe nicht anwendbar | D46: * Scroda, perquai che trivial u noziuns n'èn betg applitgablas | E46: * Dato omesso perché evidente o non pertinente
A48: T1-2 | B48: <Quelle_1> | C48: Quelle: BFS (Gebäude- und Wohnungsstatistik) | D48: Funtauna: UST (Statistica dals edifizis e da las abitaziuns) | E48: Fonte: UST (Statistica degli edifici e delle abitazioni)
A49: T1 | B49: <Aktualisierung> | C49: Letztmals aktualisiert am: 15.09.2026 | D49: Ultima actualisaziun: 15.09.2026 | E49: Ultimo aggiornamento: 15.09.2026
